BEGIN:VCALENDAR
VERSION:2.0
PRODID:-//eventon.com NONSGML v1.0//EN
CALSCALE:GREGORIAN
METHOD:PUBLISH
BEGIN:VEVENT
UID:69e7ead5f3ec4
DTSTAMP:20260421T212333Z
DTSTART:20260127T020000Z
DTEND:20260127T030000Z
LOCATION:Ward 22 meeting room\,  TNH campus
SUMMARY:General Medicine AT Training
DESCRIPTION:General Medical Advanced Trainee Training Topics RACMA sessions
  Location: W22 meeting room For more info email the chief medical registrar
 : James.Wong@nh.org.au\nhttps://www.northerndoctors.org.au/events/general-
 medicine-at-training/var/ri-34.l-L1
URL:https://www.northerndoctors.org.au/events/general-medicine-at-training/var/ri-34.l-L1
END:VEVENT
END:VCALENDAR