BEGIN:VCALENDAR
VERSION:2.0
PRODID:-//eventon.com NONSGML v1.0//EN
CALSCALE:GREGORIAN
METHOD:PUBLISH
BEGIN:VEVENT
UID:69e73c489d47b
DTSTAMP:20260421T085848Z
DTSTART:20250212T143000Z
DTEND:20250212T143000Z
LOCATION:https://teams.microsoft.com/light-meetings/launch?agent=web&version=25013018700&coords=eyJjb252ZXJzYXRpb25JZCI6IjE5Om1lZXRpbmdfWkRNMk1URTNNVEF0WmpNMllpMDBZV1ppTFRnek56TXRNelJrWXpreE1HVXlZVGc0QHRocmVhZC52MiIsInRlbmFudElkIjoiMjY3ZTkwMjUtZjdlNC00MTdlLTk1NDMtMjQ0NzZlNjY1YTY5Iiwib3JnYW5pemVySWQiOiI3OWU3Nzc3Zi02YWNhLTQyZDUtOGE5Zi1iNTRkOGY1ZmEwZjciLCJtZXNzYWdlSWQiOiIwIn0%3D&deeplinkId=91e2427c-18b4-4fe7-a0aa-58d6f6cc7130
SUMMARY:2025 Surgical Forum: Jan to June
DESCRIPTION:2025 SURGICAL FORUM &#8211; THURSDAY 5.30PM TO 6.30PM VIA MICRO
 SOFT TEAMS DATE WEEK Audit | 5:30pm &#8211; 6:00pm TOPIC SPEAKER/s CHAIR JA
 NUARY 16/01/2025 2 Audit: Surg 1 and Surg 2 Full hour N. Strugnell 23/01/20
 25 3 Audit: Surg 3\,  Surg 4 and AGSU Full hour K. Mori 30/01/2025 4 Thorac
 ic\, [..]\nhttps://www.northerndoctors.org.au/events/2025-surgical-forum-ja
 n-to-june/var/event_access
URL:https://www.northerndoctors.org.au/events/2025-surgical-forum-jan-to-june/var/event_access
END:VEVENT
END:VCALENDAR