BEGIN:VCALENDAR
VERSION:2.0
PRODID:-//eventon.com NONSGML v1.0//EN
CALSCALE:GREGORIAN
METHOD:PUBLISH
BEGIN:VEVENT
UID:69e7501fc689f
DTSTAMP:20260421T102327Z
DTSTART:20240314T020000Z
DTEND:20240314T030000Z
LOCATION:Conference Room 4 (near the Library)
SUMMARY:2024 - Friday Medical Unit Education
DESCRIPTION:Friday Medical Unit Education Time: 1:00-2:00pm Location: Con
 ference Room 4 or Microsoft Teams Sessions and/or topics are  subject to 
 change. Topics are included in the Weekly Education email  &#8211; to be 
 added to this list email the senior medical registrar: ChuiLynn.Lai@nh.org.
 au &nbsp;\nhttps://www.northerndoctors.org.au/events/medical-friday-educati
 on/
URL:https://www.northerndoctors.org.au/events/medical-friday-education/
END:VEVENT
END:VCALENDAR